BEGIN:VCALENDAR
VERSION:2.0
BEGIN:VEVENT
DTSTART;TZID=Europe/Stockholm:20220511T151500
DTEND;TZID=Europe/Stockholm:20220511T161500
DTSTAMP:20260421T211549
DESCRIPTION:med Håkan
SEQUENCE:0
SUMMARY:Alpha-kurs
UID:7845@lawebb.se
END:VEVENT
END:VCALENDAR