BEGIN:VCALENDAR
VERSION:2.0
BEGIN:VEVENT
DTSTART;TZID=Europe/Stockholm:20220525T140000
DTEND;TZID=Europe/Stockholm:20220525T150000
DTSTAMP:20260421T211124
DESCRIPTION:Öppet 14.00-17.00
SEQUENCE:0
SUMMARY:Loppis
UID:2832@lawebb.se
END:VEVENT
END:VCALENDAR