BEGIN:VCALENDAR
VERSION:2.0
BEGIN:VEVENT
DTSTART;TZID=Europe/Stockholm:20220608T093000
DTEND;TZID=Europe/Stockholm:20220608T103000
DTSTAMP:20260421T225321
DESCRIPTION:Språkträning med lite fika i Bergskyrkan 09.30-11.00
SEQUENCE:0
SUMMARY:Asylcafé
UID:5479@lawebb.se
END:VEVENT
END:VCALENDAR