BEGIN:VCALENDAR
VERSION:2.0
BEGIN:VEVENT
DTSTART;TZID=Europe/Stockholm:20220618T100000
DTEND;TZID=Europe/Stockholm:20220618T110000
DTSTAMP:20260421T225318
DESCRIPTION:Öppet 10.00 - 12.00
SEQUENCE:0
SUMMARY:Loppis
UID:9884@lawebb.se
END:VEVENT
END:VCALENDAR