BEGIN:VCALENDAR
VERSION:2.0
BEGIN:VEVENT
DTSTART;TZID=Europe/Stockholm:20220622T140000
DTEND;TZID=Europe/Stockholm:20220622T150000
DTSTAMP:20260421T225829
DESCRIPTION:På järnvägsgatan 7
Öppet 14.00 - 16.30
SEQUENCE:0
SUMMARY:Bergskyrkans Boutique
UID:6727@lawebb.se
END:VEVENT
END:VCALENDAR