BEGIN:VCALENDAR
VERSION:2.0
BEGIN:VEVENT
DTSTART;TZID=Europe/Stockholm:20220629T140000
DTEND;TZID=Europe/Stockholm:20220629T150000
DTSTAMP:20260421T225815
DESCRIPTION:Öppet 14.00-17.00
SEQUENCE:0
SUMMARY:Loppis
UID:6549@lawebb.se
END:VEVENT
END:VCALENDAR