BEGIN:VCALENDAR
VERSION:2.0
BEGIN:VEVENT
DTSTART;TZID=Europe/Stockholm:20220727T140000
DTEND;TZID=Europe/Stockholm:20220727T150000
DTSTAMP:20260422T003637
DESCRIPTION:Öppet 14.00-17.00
SEQUENCE:0
SUMMARY:Loppis
UID:2842@lawebb.se
END:VEVENT
END:VCALENDAR