BEGIN:VCALENDAR
VERSION:2.0
BEGIN:VEVENT
DTSTART;TZID=Europe/Stockholm:20220803T140000
DTEND;TZID=Europe/Stockholm:20220803T150000
DTSTAMP:20260422T022304
DESCRIPTION:På järnvägsgatan 7
Öppet 14.00 - 16.30
SEQUENCE:0
SUMMARY:Bergskyrkans Boutique
UID:4465@lawebb.se
END:VEVENT
END:VCALENDAR