BEGIN:VCALENDAR
VERSION:2.0
BEGIN:VEVENT
DTSTART;TZID=Europe/Stockholm:20220803T140000
DTEND;TZID=Europe/Stockholm:20220803T150000
DTSTAMP:20260422T022746
DESCRIPTION:Öppet 14.00-17.00
SEQUENCE:0
SUMMARY:Loppis
UID:6244@lawebb.se
END:VEVENT
END:VCALENDAR