BEGIN:VCALENDAR
VERSION:2.0
BEGIN:VEVENT
DTSTART;TZID=Europe/Stockholm:20220810T140000
DTEND;TZID=Europe/Stockholm:20220810T150000
DTSTAMP:20260422T022311
DESCRIPTION:Öppet 14.00-17.00
SEQUENCE:0
SUMMARY:Loppis
UID:9769@lawebb.se
END:VEVENT
END:VCALENDAR