BEGIN:VCALENDAR
VERSION:2.0
BEGIN:VEVENT
DTSTART;TZID=Europe/Stockholm:20431107T100000
DTEND;TZID=Europe/Stockholm:20431107T110000
DTSTAMP:20260421T225034
DESCRIPTION:Öppet 10.00 - 12.00
SEQUENCE:0
SUMMARY:Loppis
UID:7454@lawebb.se
END:VEVENT
END:VCALENDARBEGIN:VCALENDAR
VERSION:2.0
BEGIN:VEVENT
DTSTART;TZID=Europe/Stockholm:20220813T100000
DTEND;TZID=Europe/Stockholm:20220813T110000
DTSTAMP:20260422T021634
DESCRIPTION:Öppet 10.00 - 12.00
SEQUENCE:0
SUMMARY:Loppis
UID:6773@lawebb.se
END:VEVENT
END:VCALENDAR