BEGIN:VCALENDAR
VERSION:2.0
BEGIN:VEVENT
DTSTART;TZID=Europe/Stockholm:20220825T130000
DTEND;TZID=Europe/Stockholm:20220825T140000
DTSTAMP:20260422T022437
DESCRIPTION:13.00 - 15.00
SEQUENCE:0
SUMMARY:Öppen kyrka
UID:4469@lawebb.se
END:VEVENT
END:VCALENDAR