BEGIN:VCALENDAR
VERSION:2.0
BEGIN:VEVENT
DTSTART;TZID=Europe/Stockholm:20431219T100000
DTEND;TZID=Europe/Stockholm:20431219T110000
DTSTAMP:20260421T213955
DESCRIPTION:Öppet 10.00 - 12.00
SEQUENCE:0
SUMMARY:Loppis
UID:5347@lawebb.se
END:VEVENT
END:VCALENDARBEGIN:VCALENDAR
VERSION:2.0
BEGIN:VEVENT
DTSTART;TZID=Europe/Stockholm:20220827T100000
DTEND;TZID=Europe/Stockholm:20220827T110000
DTSTAMP:20260422T022221
DESCRIPTION:Öppet 10.00 - 12.00
SEQUENCE:0
SUMMARY:Loppis
UID:6272@lawebb.se
END:VEVENT
END:VCALENDAR