BEGIN:VCALENDAR
VERSION:2.0
BEGIN:VEVENT
DTSTART;TZID=Europe/Stockholm:20220908T130000
DTEND;TZID=Europe/Stockholm:20220908T140000
DTSTAMP:20260422T120717
DESCRIPTION:13.00 - 15.00
SEQUENCE:0
SUMMARY:Öppen kyrka
UID:9547@lawebb.se
END:VEVENT
END:VCALENDAR