BEGIN:VCALENDAR
VERSION:2.0
BEGIN:VEVENT
DTSTART;TZID=Europe/Stockholm:20220910T100000
DTEND;TZID=Europe/Stockholm:20220910T110000
DTSTAMP:20260422T120850
DESCRIPTION:Öppet 10.00 - 12.00
SEQUENCE:0
SUMMARY:Loppis
UID:2556@lawebb.se
END:VEVENT
END:VCALENDAR