BEGIN:VCALENDAR
VERSION:2.0
BEGIN:VEVENT
DTSTART;TZID=Europe/Stockholm:20220915T130000
DTEND;TZID=Europe/Stockholm:20220915T140000
DTSTAMP:20260422T121308
DESCRIPTION:13.00 - 15.00
SEQUENCE:0
SUMMARY:Öppen kyrka
UID:9777@lawebb.se
END:VEVENT
END:VCALENDAR