BEGIN:VCALENDAR
VERSION:2.0
BEGIN:VEVENT
DTSTART;TZID=Europe/Stockholm:20220922T130000
DTEND;TZID=Europe/Stockholm:20220922T140000
DTSTAMP:20260422T121113
DESCRIPTION:13.00 - 15.00
SEQUENCE:0
SUMMARY:Öppen kyrka
UID:6659@lawebb.se
END:VEVENT
END:VCALENDAR