BEGIN:VCALENDAR
VERSION:2.0
BEGIN:VEVENT
DTSTART;TZID=Europe/Stockholm:20220929T130000
DTEND;TZID=Europe/Stockholm:20220929T140000
DTSTAMP:20260422T120723
DESCRIPTION:13.00 - 15.00
SEQUENCE:0
SUMMARY:Öppen kyrka
UID:5858@lawebb.se
END:VEVENT
END:VCALENDAR