BEGIN:VCALENDAR
VERSION:2.0
BEGIN:VEVENT
DTSTART;TZID=Europe/Stockholm:20221013T130000
DTEND;TZID=Europe/Stockholm:20221013T140000
DTSTAMP:20260422T134624
DESCRIPTION:13.00 - 15.00
SEQUENCE:0
SUMMARY:Öppen kyrka
UID:6527@lawebb.se
END:VEVENT
END:VCALENDAR