BEGIN:VCALENDAR
VERSION:2.0
BEGIN:VEVENT
DTSTART;TZID=Europe/Stockholm:20221020T130000
DTEND;TZID=Europe/Stockholm:20221020T140000
DTSTAMP:20260422T135154
DESCRIPTION:13.00 - 15.00
SEQUENCE:0
SUMMARY:Öppen kyrka
UID:5674@lawebb.se
END:VEVENT
END:VCALENDAR