BEGIN:VCALENDAR
VERSION:2.0
BEGIN:VEVENT
DTSTART;TZID=Europe/Stockholm:20221026T140000
DTEND;TZID=Europe/Stockholm:20221026T150000
DTSTAMP:20260422T134342
DESCRIPTION:På järnvägsgatan 7
Öppet 14.00 - 16.30
SEQUENCE:0
SUMMARY:Bergskyrkans Boutique
UID:3786@lawebb.se
END:VEVENT
END:VCALENDAR