BEGIN:VCALENDAR
VERSION:2.0
BEGIN:VEVENT
DTSTART;TZID=Europe/Stockholm:20221027T130000
DTEND;TZID=Europe/Stockholm:20221027T140000
DTSTAMP:20260422T134553
DESCRIPTION:13.00 - 15.00
SEQUENCE:0
SUMMARY:Öppen kyrka
UID:6798@lawebb.se
END:VEVENT
END:VCALENDAR