BEGIN:VCALENDAR
VERSION:2.0
BEGIN:VEVENT
DTSTART;TZID=Europe/Stockholm:20221123T140000
DTEND;TZID=Europe/Stockholm:20221123T150000
DTSTAMP:20260422T150851
DESCRIPTION:På järnvägsgatan 7
Öppet 14.00 - 16.30
SEQUENCE:0
SUMMARY:Bergskyrkans Boutique
UID:6745@lawebb.se
END:VEVENT
END:VCALENDAR