BEGIN:VCALENDAR
VERSION:2.0
BEGIN:VEVENT
DTSTART;TZID=Europe/Stockholm:20221123T140000
DTEND;TZID=Europe/Stockholm:20221123T150000
DTSTAMP:20260422T151254
DESCRIPTION:Öppet 14.00-17.00
SEQUENCE:0
SUMMARY:Loppis
UID:6982@lawebb.se
END:VEVENT
END:VCALENDAR