BEGIN:VCALENDAR
VERSION:2.0
BEGIN:VEVENT
DTSTART;TZID=Europe/Stockholm:20221217T100000
DTEND;TZID=Europe/Stockholm:20221217T110000
DTSTAMP:20260422T163206
DESCRIPTION:Öppet 10.00 - 12.00
SEQUENCE:0
SUMMARY:Loppis
UID:8337@lawebb.se
END:VEVENT
END:VCALENDAR