BEGIN:VCALENDAR
VERSION:2.0
BEGIN:VEVENT
DTSTART;TZID=Europe/Stockholm:20230107T100000
DTEND;TZID=Europe/Stockholm:20230107T110000
DTSTAMP:20260422T180400
DESCRIPTION:Öppet 10.00 - 12.00
SEQUENCE:0
SUMMARY:Loppis
UID:2523@lawebb.se
END:VEVENT
END:VCALENDAR