BEGIN:VCALENDAR
VERSION:2.0
BEGIN:VEVENT
DTSTART;TZID=Europe/Stockholm:20230111T140000
DTEND;TZID=Europe/Stockholm:20230111T150000
DTSTAMP:20260422T180719
DESCRIPTION:Öppet 14.00-17.00
SEQUENCE:0
SUMMARY:Loppis
UID:5227@lawebb.se
END:VEVENT
END:VCALENDAR