BEGIN:VCALENDAR
VERSION:2.0
BEGIN:VEVENT
DTSTART;TZID=Europe/Stockholm:20531101T100000
DTEND;TZID=Europe/Stockholm:20531101T110000
DTSTAMP:20260422T133944
DESCRIPTION:Öppet 10.00 - 12.00
SEQUENCE:0
SUMMARY:Loppis
UID:6222@lawebb.se
END:VEVENT
END:VCALENDARBEGIN:VCALENDAR
VERSION:2.0
BEGIN:VEVENT
DTSTART;TZID=Europe/Stockholm:20230225T100000
DTEND;TZID=Europe/Stockholm:20230225T110000
DTSTAMP:20260422T193520
DESCRIPTION:Öppet 10.00 - 12.00
SEQUENCE:0
SUMMARY:Loppis
UID:8755@lawebb.se
END:VEVENT
END:VCALENDAR