BEGIN:VCALENDAR
VERSION:2.0
BEGIN:VEVENT
DTSTART;TZID=Europe/Stockholm:20230325T100000
DTEND;TZID=Europe/Stockholm:20230325T110000
DTSTAMP:20260422T212830
DESCRIPTION:Öppet 10.00 - 12.00
SEQUENCE:0
SUMMARY:Loppis
UID:5767@lawebb.se
END:VEVENT
END:VCALENDAR