BEGIN:VCALENDAR
VERSION:2.0
BEGIN:VEVENT
DTSTART;TZID=Europe/Stockholm:20560527T100000
DTEND;TZID=Europe/Stockholm:20560527T110000
DTSTAMP:20260422T113954
DESCRIPTION:Öppet 10.00 - 12.00
SEQUENCE:0
SUMMARY:Loppis
UID:5749@lawebb.se
END:VEVENT
END:VCALENDARBEGIN:VCALENDAR
VERSION:2.0
BEGIN:VEVENT
DTSTART;TZID=Europe/Stockholm:20230329T140000
DTEND;TZID=Europe/Stockholm:20230329T150000
DTSTAMP:20260422T212149
DESCRIPTION:Öppet 14.00-17.00
SEQUENCE:0
SUMMARY:Loppis
UID:4266@lawebb.se
END:VEVENT
END:VCALENDAR