BEGIN:VCALENDAR
VERSION:2.0
BEGIN:VEVENT
DTSTART;TZID=Europe/Stockholm:20230426T140000
DTEND;TZID=Europe/Stockholm:20230426T150000
DTSTAMP:20260422T230313
DESCRIPTION:Öppet 14.00-17.00
SEQUENCE:0
SUMMARY:Loppis
UID:3684@lawebb.se
END:VEVENT
END:VCALENDAR