BEGIN:VCALENDAR
VERSION:2.0
BEGIN:VEVENT
DTSTART;TZID=Europe/Stockholm:20230503T140000
DTEND;TZID=Europe/Stockholm:20230503T150000
DTSTAMP:20260423T004604
DESCRIPTION:På järnvägsgatan 7
Öppet 14.00 - 16.30
SEQUENCE:0
SUMMARY:Bergskyrkans Boutique
UID:2933@lawebb.se
END:VEVENT
END:VCALENDAR