BEGIN:VCALENDAR
VERSION:2.0
BEGIN:VEVENT
DTSTART;TZID=Europe/Stockholm:20440917T100000
DTEND;TZID=Europe/Stockholm:20440917T110000
DTSTAMP:20260422T104202
DESCRIPTION:Öppet 10.00 - 12.00
SEQUENCE:0
SUMMARY:Loppis
UID:6387@lawebb.se
END:VEVENT
END:VCALENDARBEGIN:VCALENDAR
VERSION:2.0
BEGIN:VEVENT
DTSTART;TZID=Europe/Stockholm:20230510T140000
DTEND;TZID=Europe/Stockholm:20230510T150000
DTSTAMP:20260423T005124
DESCRIPTION:Öppet 14.00-17.00
SEQUENCE:0
SUMMARY:Loppis
UID:3235@lawebb.se
END:VEVENT
END:VCALENDAR