BEGIN:VCALENDAR
VERSION:2.0
BEGIN:VEVENT
DTSTART;TZID=Europe/Stockholm:20230517T093000
DTEND;TZID=Europe/Stockholm:20230517T103000
DTSTAMP:20260423T004603
DESCRIPTION:Språkträning med lite fika i Bergskyrkan 09.30-11.00
SEQUENCE:0
SUMMARY:Asylcafé
UID:4749@lawebb.se
END:VEVENT
END:VCALENDAR