BEGIN:VCALENDAR
VERSION:2.0
BEGIN:VEVENT
DTSTART;TZID=Europe/Stockholm:20230204T100000
DTEND;TZID=Europe/Stockholm:20230204T110000
DTSTAMP:20260422T193159
DESCRIPTION:Öppet 10.00 - 12.00
SEQUENCE:0
SUMMARY:Loppis
UID:3495@lawebb.se
END:VEVENT
END:VCALENDARBEGIN:VCALENDAR
VERSION:2.0
BEGIN:VEVENT
DTSTART;TZID=Europe/Stockholm:20230517T140000
DTEND;TZID=Europe/Stockholm:20230517T150000
DTSTAMP:20260423T005559
DESCRIPTION:Öppet 14.00-17.00
SEQUENCE:0
SUMMARY:Loppis
UID:7568@lawebb.se
END:VEVENT
END:VCALENDAR