BEGIN:VCALENDAR
VERSION:2.0
BEGIN:VEVENT
DTSTART;TZID=Europe/Stockholm:20441012T093000
DTEND;TZID=Europe/Stockholm:20441012T103000
DTSTAMP:20260422T091701
DESCRIPTION:Språkträning med lite fika i Bergskyrkan 09.30-11.00
SEQUENCE:0
SUMMARY:Asylcafé
UID:8522@lawebb.se
END:VEVENT
END:VCALENDARBEGIN:VCALENDAR
VERSION:2.0
BEGIN:VEVENT
DTSTART;TZID=Europe/Stockholm:20230524T093000
DTEND;TZID=Europe/Stockholm:20230524T103000
DTSTAMP:20260423T005545
DESCRIPTION:Språkträning med lite fika i Bergskyrkan 09.30-11.00
SEQUENCE:0
SUMMARY:Asylcafé
UID:3743@lawebb.se
END:VEVENT
END:VCALENDAR