BEGIN:VCALENDAR
VERSION:2.0
BEGIN:VEVENT
DTSTART;TZID=Europe/Stockholm:20230805T100000
DTEND;TZID=Europe/Stockholm:20230805T110000
DTSTAMP:20260423T061145
DESCRIPTION:Öppet 10.00 - 12.00
SEQUENCE:0
SUMMARY:Loppis
UID:7445@lawebb.se
END:VEVENT
END:VCALENDAR