BEGIN:VCALENDAR
VERSION:2.0
BEGIN:VEVENT
DTSTART;TZID=Europe/Stockholm:20230906T140000
DTEND;TZID=Europe/Stockholm:20230906T150000
DTSTAMP:20260423T075755
DESCRIPTION:Öppet 14.00-17.00
SEQUENCE:0
SUMMARY:Loppis
UID:9746@lawebb.se
END:VEVENT
END:VCALENDAR