BEGIN:VCALENDAR
VERSION:2.0
BEGIN:VEVENT
DTSTART;TZID=Europe/Stockholm:20231018T140000
DTEND;TZID=Europe/Stockholm:20231018T150000
DTSTAMP:20260423T100341
DESCRIPTION:På järnvägsgatan 7
Öppet 14.00 - 16.30
SEQUENCE:0
SUMMARY:Bergskyrkans Boutique
UID:7643@lawebb.se
END:VEVENT
END:VCALENDAR