BEGIN:VCALENDAR
VERSION:2.0
BEGIN:VEVENT
DTSTART;TZID=Europe/Stockholm:20231213T140000
DTEND;TZID=Europe/Stockholm:20231213T150000
DTSTAMP:20260423T132835
DESCRIPTION:Öppet 14.00-17.00
SEQUENCE:0
SUMMARY:Loppis
UID:3664@lawebb.se
END:VEVENT
END:VCALENDAR