BEGIN:VCALENDAR
VERSION:2.0
BEGIN:VEVENT
DTSTART;TZID=Europe/Stockholm:20250405T100000
DTEND;TZID=Europe/Stockholm:20250405T110000
DTSTAMP:20260423T141735
DESCRIPTION:Öppet 10.00 - 12.00
SEQUENCE:0
SUMMARY:Loppis
UID:2728@lawebb.se
END:VEVENT
END:VCALENDARBEGIN:VCALENDAR
VERSION:2.0
BEGIN:VEVENT
DTSTART;TZID=Europe/Stockholm:20240131T140000
DTEND;TZID=Europe/Stockholm:20240131T150000
DTSTAMP:20260423T145255
DESCRIPTION:Öppet 14.00-17.00
SEQUENCE:0
SUMMARY:Loppis
UID:8463@lawebb.se
END:VEVENT
END:VCALENDAR