BEGIN:VCALENDAR
VERSION:2.0
BEGIN:VEVENT
DTSTART;TZID=Europe/Stockholm:20240207T140000
DTEND;TZID=Europe/Stockholm:20240207T150000
DTSTAMP:20260423T161340
DESCRIPTION:Öppet 14.00-17.00
SEQUENCE:0
SUMMARY:Loppis
UID:7395@lawebb.se
END:VEVENT
END:VCALENDAR