BEGIN:VCALENDAR
VERSION:2.0
BEGIN:VEVENT
DTSTART;TZID=Europe/Stockholm:20460815T140000
DTEND;TZID=Europe/Stockholm:20460815T150000
DTSTAMP:20260423T105359
DESCRIPTION:Öppet 14.00-17.00
SEQUENCE:0
SUMMARY:Loppis
UID:9736@lawebb.se
END:VEVENT
END:VCALENDARBEGIN:VCALENDAR
VERSION:2.0
BEGIN:VEVENT
DTSTART;TZID=Europe/Stockholm:20240221T140000
DTEND;TZID=Europe/Stockholm:20240221T150000
DTSTAMP:20260423T161812
DESCRIPTION:Öppet 14.00-17.00
SEQUENCE:0
SUMMARY:Loppis
UID:4823@lawebb.se
END:VEVENT
END:VCALENDAR