BEGIN:VCALENDAR
VERSION:2.0
BEGIN:VEVENT
DTSTART;TZID=Europe/Stockholm:20240327T140000
DTEND;TZID=Europe/Stockholm:20240327T150000
DTSTAMP:20260423T173005
DESCRIPTION:Öppet 14.00-17.00
SEQUENCE:0
SUMMARY:Loppis
UID:7757@lawebb.se
END:VEVENT
END:VCALENDAR