BEGIN:VCALENDAR
VERSION:2.0
BEGIN:VEVENT
DTSTART;TZID=Europe/Stockholm:20240417T140000
DTEND;TZID=Europe/Stockholm:20240417T150000
DTSTAMP:20260423T190952
DESCRIPTION:Öppet 14.00-17.00
SEQUENCE:0
SUMMARY:Loppis
UID:5753@lawebb.se
END:VEVENT
END:VCALENDAR