BEGIN:VCALENDAR
VERSION:2.0
BEGIN:VEVENT
DTSTART;TZID=Europe/Stockholm:20240424T093000
DTEND;TZID=Europe/Stockholm:20240424T103000
DTSTAMP:20260423T190822
DESCRIPTION:Språkträning med lite fika i Bergskyrkan 09.30-11.00
SEQUENCE:0
SUMMARY:Asylcafé
UID:5448@lawebb.se
END:VEVENT
END:VCALENDAR