BEGIN:VCALENDAR
VERSION:2.0
BEGIN:VEVENT
DTSTART;TZID=Europe/Stockholm:20240508T140000
DTEND;TZID=Europe/Stockholm:20240508T150000
DTSTAMP:20260423T205909
DESCRIPTION:Öppet 14.00-17.00
SEQUENCE:0
SUMMARY:Loppis
UID:3838@lawebb.se
END:VEVENT
END:VCALENDAR