BEGIN:VCALENDAR
VERSION:2.0
BEGIN:VEVENT
DTSTART;TZID=Europe/Stockholm:20460425T093000
DTEND;TZID=Europe/Stockholm:20460425T103000
DTSTAMP:20260423T043524
DESCRIPTION:Språkträning med lite fika i Bergskyrkan 09.30-11.00
SEQUENCE:0
SUMMARY:Asylcafé
UID:2392@lawebb.se
END:VEVENT
END:VCALENDARBEGIN:VCALENDAR
VERSION:2.0
BEGIN:VEVENT
DTSTART;TZID=Europe/Stockholm:20240515T093000
DTEND;TZID=Europe/Stockholm:20240515T103000
DTSTAMP:20260423T205138
DESCRIPTION:Språkträning med lite fika i Bergskyrkan 09.30-11.00
SEQUENCE:0
SUMMARY:Asylcafé
UID:2226@lawebb.se
END:VEVENT
END:VCALENDAR