BEGIN:VCALENDAR
VERSION:2.0
BEGIN:VEVENT
DTSTART;TZID=Europe/Stockholm:20240605T093000
DTEND;TZID=Europe/Stockholm:20240605T103000
DTSTAMP:20260423T222453
DESCRIPTION:Språkträning med lite fika i Bergskyrkan 09.30-11.00
SEQUENCE:0
SUMMARY:Asylcafé
UID:6328@lawebb.se
END:VEVENT
END:VCALENDAR