BEGIN:VCALENDAR
VERSION:2.0
BEGIN:VEVENT
DTSTART;TZID=Europe/Stockholm:20260325T093000
DTEND;TZID=Europe/Stockholm:20260325T103000
DTSTAMP:20260423T085821
DESCRIPTION:Språkträning med lite fika i Bergskyrkan 09.30-11.00
SEQUENCE:0
SUMMARY:Asylcafé
UID:3652@lawebb.se
END:VEVENT
END:VCALENDARBEGIN:VCALENDAR
VERSION:2.0
BEGIN:VEVENT
DTSTART;TZID=Europe/Stockholm:20240703T093000
DTEND;TZID=Europe/Stockholm:20240703T103000
DTSTAMP:20260424T000137
DESCRIPTION:Språkträning med lite fika i Bergskyrkan 09.30-11.00
SEQUENCE:0
SUMMARY:Asylcafé
UID:8545@lawebb.se
END:VEVENT
END:VCALENDAR